BEGIN:VCALENDAR
VERSION:2.0
PRODID:-//Ergosoma - ECPv4.9.13//NONSGML v1.0//EN
CALSCALE:GREGORIAN
METHOD:PUBLISH
X-WR-CALNAME:Ergosoma
X-ORIGINAL-URL:https://www.ergosom.de
X-WR-CALDESC:Veranstaltungen im Ergosoma
BEGIN:VTIMEZONE
TZID:Europe/Berlin
BEGIN:DAYLIGHT
TZOFFSETFROM:+0100
TZOFFSETTO:+0200
TZNAME:CEST
DTSTART:20170326T010000
END:DAYLIGHT
BEGIN:STANDARD
TZOFFSETFROM:+0200
TZOFFSETTO:+0100
TZNAME:CET
DTSTART:20171029T010000
END:STANDARD
END:VTIMEZONE
BEGIN:VEVENT
DTSTART;VALUE=DATE:20170325
DTEND;VALUE=DATE:20170326
DTSTAMP:20260420T100233
CREATED:20170117T112232Z
LAST-MODIFIED:20170117T112232Z
UID:144-1490400000-1490486399@www.ergosom.de
SUMMARY:Ergosoma – Vertiefung
DESCRIPTION:
URL:https://www.ergosom.de/event/ergosoma-vertiefung/
LOCATION:Köln
CATEGORIES:Ausbildung
END:VEVENT
END:VCALENDAR