BEGIN:VCALENDAR
VERSION:2.0
PRODID:-//Ergosoma - ECPv4.9.13//NONSGML v1.0//EN
CALSCALE:GREGORIAN
METHOD:PUBLISH
X-WR-CALNAME:Ergosoma
X-ORIGINAL-URL:https://www.ergosom.de
X-WR-CALDESC:Veranstaltungen im Ergosoma
BEGIN:VTIMEZONE
TZID:Europe/Berlin
BEGIN:DAYLIGHT
TZOFFSETFROM:+0100
TZOFFSETTO:+0200
TZNAME:CEST
DTSTART:20170326T010000
END:DAYLIGHT
BEGIN:STANDARD
TZOFFSETFROM:+0200
TZOFFSETTO:+0100
TZNAME:CET
DTSTART:20171029T010000
END:STANDARD
END:VTIMEZONE
BEGIN:VEVENT
DTSTART;VALUE=DATE:20170624
DTEND;VALUE=DATE:20170625
DTSTAMP:20260419T115740
CREATED:20170117T112323Z
LAST-MODIFIED:20170117T112323Z
UID:146-1498262400-1498348799@www.ergosom.de
SUMMARY:Ergosoma – Vertiefung
DESCRIPTION:
URL:https://www.ergosom.de/event/ergosoma-vertiefung-2/
LOCATION:Köln
CATEGORIES:Ausbildung
END:VEVENT
END:VCALENDAR